BEGIN:VCALENDAR
VERSION:2.0
PRODID:-//10,000 Degrees - ECPv6.15.19//NONSGML v1.0//EN
CALSCALE:GREGORIAN
METHOD:PUBLISH
X-ORIGINAL-URL:https://10000degrees.org
X-WR-CALDESC:Events for 10,000 Degrees
REFRESH-INTERVAL;VALUE=DURATION:PT1H
X-Robots-Tag:noindex
X-PUBLISHED-TTL:PT1H
BEGIN:VTIMEZONE
TZID:America/Los_Angeles
BEGIN:DAYLIGHT
TZOFFSETFROM:-0800
TZOFFSETTO:-0700
TZNAME:PDT
DTSTART:20240310T100000
END:DAYLIGHT
BEGIN:STANDARD
TZOFFSETFROM:-0700
TZOFFSETTO:-0800
TZNAME:PST
DTSTART:20241103T090000
END:STANDARD
BEGIN:DAYLIGHT
TZOFFSETFROM:-0800
TZOFFSETTO:-0700
TZNAME:PDT
DTSTART:20250309T100000
END:DAYLIGHT
BEGIN:STANDARD
TZOFFSETFROM:-0700
TZOFFSETTO:-0800
TZNAME:PST
DTSTART:20251102T090000
END:STANDARD
BEGIN:DAYLIGHT
TZOFFSETFROM:-0800
TZOFFSETTO:-0700
TZNAME:PDT
DTSTART:20260308T100000
END:DAYLIGHT
BEGIN:STANDARD
TZOFFSETFROM:-0700
TZOFFSETTO:-0800
TZNAME:PST
DTSTART:20261101T090000
END:STANDARD
END:VTIMEZONE
BEGIN:VEVENT
DTSTART;TZID=America/Los_Angeles:20251203T170000
DTEND;TZID=America/Los_Angeles:20251203T180000
DTSTAMP:20260420T103143
CREATED:20250916T204750Z
LAST-MODIFIED:20250916T205859Z
UID:10000172-1764781200-1764784800@10000degrees.org
SUMMARY:Explore 2026 Internship & Summer Opportunities
DESCRIPTION:Come learn about the available internships and summer programs via 10\,000 Degrees Career Success partners and get support in submitting your internship applications.
URL:https://10000degrees.org/event/explore-2026-internship-summer-opportunities-4/
CATEGORIES:Events for Students & Alumni
ATTACH;FMTTYPE=image/jpeg:https://10000degrees.org/wp-content/uploads/2025/09/12.jpg
LOCATION:https://10000degrees.my.site.com/studentportal/s/login/
END:VEVENT
BEGIN:VEVENT
DTSTART;TZID=America/Los_Angeles:20251113T120000
DTEND;TZID=America/Los_Angeles:20251113T130000
DTSTAMP:20260420T103143
CREATED:20250916T204543Z
LAST-MODIFIED:20250916T205629Z
UID:10000171-1763035200-1763038800@10000degrees.org
SUMMARY:Explore 2026 Internship & Summer Opportunities
DESCRIPTION:Come learn about the available internships and summer programs via 10\,000 Degrees partners and get support in submitting your internship applications.
URL:https://10000degrees.org/event/explore-2026-internship-summer-opportunities-3/
CATEGORIES:Events for Students & Alumni
ATTACH;FMTTYPE=image/jpeg:https://10000degrees.org/wp-content/uploads/2025/09/4-1.jpg
LOCATION:https://10000degrees.my.site.com/studentportal/s/login/
END:VEVENT
BEGIN:VEVENT
DTSTART;TZID=America/Los_Angeles:20251106T170000
DTEND;TZID=America/Los_Angeles:20251106T190000
DTSTAMP:20260420T103143
CREATED:20250916T204320Z
LAST-MODIFIED:20250916T205817Z
UID:10000170-1762448400-1762455600@10000degrees.org
SUMMARY:Mock Interviews: Interactive Practice
DESCRIPTION:Get hands-on practice preparing for interviews and participate in a mock interview to answer common questions. You’ll team up with fellow students or work directly with Career Success staff for personalized feedback and support to build your interview skills and confidence.
URL:https://10000degrees.org/event/mock-interviews-interactive-practice/
CATEGORIES:Events for Students & Alumni
ATTACH;FMTTYPE=image/jpeg:https://10000degrees.org/wp-content/uploads/2025/09/11-1.jpg
LOCATION:https://10000degrees.my.site.com/studentportal/s/login/
END:VEVENT
BEGIN:VEVENT
DTSTART;TZID=America/Los_Angeles:20251105T120000
DTEND;TZID=America/Los_Angeles:20251105T130000
DTSTAMP:20260420T103143
CREATED:20250916T204219Z
LAST-MODIFIED:20250916T204219Z
UID:10000169-1762344000-1762347600@10000degrees.org
SUMMARY:How to Ace an Interview – Beyond the Basics
DESCRIPTION:Maybe you’ve landed an interview or perhaps you will be interviewing in the future. Join us to learn new interview techniques and tips\, beyond the basics. We’ll cover the types of interview practices you might encounter\, common questions\, how to prepare for both in-person and virtual interview experiences\, and how to begin a pay/salary negotiation conversation.
URL:https://10000degrees.org/event/how-to-ace-an-interview-beyond-the-basics/
CATEGORIES:Events for Students & Alumni
ATTACH;FMTTYPE=image/jpeg:https://10000degrees.org/wp-content/uploads/2025/09/9.jpg
LOCATION:https://10000degrees.my.site.com/studentportal/s/login/
END:VEVENT
BEGIN:VEVENT
DTSTART;TZID=America/Los_Angeles:20251101T090000
DTEND;TZID=America/Los_Angeles:20251101T120000
DTSTAMP:20260420T103143
CREATED:20250805T195902Z
LAST-MODIFIED:20250805T195902Z
UID:10000151-1761987600-1761998400@10000degrees.org
SUMMARY:Hoop for Change
DESCRIPTION:Basketball Free-Throw Shoot-a-Thon \nGet Ready to Hit the Court and Make a Difference! \nJoin us in fostering teamwork\, generosity\, and community spirit. By donating or participating\, you’re supporting a winning team effort to uplift education and create lasting change. Help us level the playing field for Bay Area students\, one free throw at a time! \nSponsorships Now Available! \nInfo\, Sponsorships & Registration
URL:https://10000degrees.org/event/hoop-for-change/2025-11-01/
LOCATION:Various
CATEGORIES:Alumni Events,Events for Students & Alumni,Supporter Events
ATTACH;FMTTYPE=image/jpeg:https://10000degrees.org/wp-content/uploads/2025/08/New-website-Events-section-thumbnails-62.jpg
END:VEVENT
BEGIN:VEVENT
DTSTART;TZID=America/Los_Angeles:20251030T170000
DTEND;TZID=America/Los_Angeles:20251030T180000
DTSTAMP:20260420T103143
CREATED:20250916T204118Z
LAST-MODIFIED:20250916T204118Z
UID:10000168-1761843600-1761847200@10000degrees.org
SUMMARY:LinkedIn 101
DESCRIPTION:Join 10\,000 Degrees to learn about the power of LinkedIn and how to use the platform to network and job search. We’ll cover the basics of LinkedIn – creating your professional brand\, how to build your professional network\, and strategies for your internship and job search utilizing LinkedIn.
URL:https://10000degrees.org/event/linkedin-101/
CATEGORIES:Events for Students & Alumni
ATTACH;FMTTYPE=image/jpeg:https://10000degrees.org/wp-content/uploads/2025/09/8.jpg
LOCATION:https://10000degrees.my.site.com/studentportal/s/login/
END:VEVENT
BEGIN:VEVENT
DTSTART;TZID=America/Los_Angeles:20251028T170000
DTEND;TZID=America/Los_Angeles:20251028T180000
DTSTAMP:20260420T103143
CREATED:20250916T204024Z
LAST-MODIFIED:20250916T210108Z
UID:10000167-1761670800-1761674400@10000degrees.org
SUMMARY:Healthcare Career Panel
DESCRIPTION:Join us for a dynamic panel featuring healthcare professionals from a variety of fields! Hear firsthand about their career journeys\, challenges\, and the rewards of working in healthcare. This is a unique opportunity to ask questions\, network\, and gain clarity on your career path!
URL:https://10000degrees.org/event/healthcare-career-panel/
CATEGORIES:Events for Students & Alumni
ATTACH;FMTTYPE=image/jpeg:https://10000degrees.org/wp-content/uploads/2025/09/New-website-Events-section-thumbnails-66.jpg
LOCATION:https://10000degrees.my.site.com/studentportal/s/login/
END:VEVENT
BEGIN:VEVENT
DTSTART;TZID=America/Los_Angeles:20251018T090000
DTEND;TZID=America/Los_Angeles:20251018T120000
DTSTAMP:20260420T103143
CREATED:20250805T195902Z
LAST-MODIFIED:20250805T195902Z
UID:10000150-1760778000-1760788800@10000degrees.org
SUMMARY:Hoop for Change
DESCRIPTION:Basketball Free-Throw Shoot-a-Thon \nGet Ready to Hit the Court and Make a Difference! \nJoin us in fostering teamwork\, generosity\, and community spirit. By donating or participating\, you’re supporting a winning team effort to uplift education and create lasting change. Help us level the playing field for Bay Area students\, one free throw at a time! \nSponsorships Now Available! \nInfo\, Sponsorships & Registration
URL:https://10000degrees.org/event/hoop-for-change/2025-10-18/
LOCATION:Various
CATEGORIES:Alumni Events,Events for Students & Alumni,Supporter Events
ATTACH;FMTTYPE=image/jpeg:https://10000degrees.org/wp-content/uploads/2025/08/New-website-Events-section-thumbnails-62.jpg
END:VEVENT
BEGIN:VEVENT
DTSTART;TZID=America/Los_Angeles:20251016T120000
DTEND;TZID=America/Los_Angeles:20251016T130000
DTSTAMP:20260420T103143
CREATED:20250916T203858Z
LAST-MODIFIED:20250916T205719Z
UID:10000166-1760616000-1760619600@10000degrees.org
SUMMARY:Explore 2026 Internship & Summer Opportunities
DESCRIPTION:Come learn about the available internships and summer programs via 10\,000 Degrees Career Success partners and get support in submitting your internship applications.
URL:https://10000degrees.org/event/explore-2026-internship-summer-opportunities-2/
CATEGORIES:Events for Students & Alumni
ATTACH;FMTTYPE=image/jpeg:https://10000degrees.org/wp-content/uploads/2025/09/7-1.jpg
LOCATION:https://10000degrees.my.site.com/studentportal/s/login/
END:VEVENT
BEGIN:VEVENT
DTSTART;TZID=America/Los_Angeles:20251009T120000
DTEND;TZID=America/Los_Angeles:20251009T130000
DTSTAMP:20260420T103143
CREATED:20250916T203732Z
LAST-MODIFIED:20250916T203732Z
UID:10000165-1760011200-1760014800@10000degrees.org
SUMMARY:Finding a Great Summer Internship
DESCRIPTION:College internships are an excellent way to build skills and explore your career interests. Completing a college internship also makes you a stronger job applicant! Are you interested in finding an internship but not sure where to look or how to start? Join us to explore tools and tricks on finding a great internship!
URL:https://10000degrees.org/event/finding-a-great-summer-internship/
CATEGORIES:Events for Students & Alumni
ATTACH;FMTTYPE=image/jpeg:https://10000degrees.org/wp-content/uploads/2025/09/5.jpg
LOCATION:https://10000degrees.my.site.com/studentportal/s/login/
END:VEVENT
BEGIN:VEVENT
DTSTART;TZID=America/Los_Angeles:20251001T170000
DTEND;TZID=America/Los_Angeles:20251001T180000
DTSTAMP:20260420T103143
CREATED:20250916T203621Z
LAST-MODIFIED:20250916T203621Z
UID:10000164-1759338000-1759341600@10000degrees.org
SUMMARY:Insider Tips on Securing Finance Internships
DESCRIPTION:Are you interested in a finance career and hoping to gain a summer internship? Do you want to know what to expect during the application and interview process? Join this session to hear from finance processionals who are going to share insider tips including interview questions\, financial lingo to know\, and more!
URL:https://10000degrees.org/event/insider-tips-on-securing-finance-internships/
CATEGORIES:Events for Students & Alumni
ATTACH;FMTTYPE=image/jpeg:https://10000degrees.org/wp-content/uploads/2025/09/4.jpg
LOCATION:https://10000degrees.my.site.com/studentportal/s/login/
END:VEVENT
BEGIN:VEVENT
DTSTART;TZID=America/Los_Angeles:20250930T170000
DTEND;TZID=America/Los_Angeles:20250930T180000
DTSTAMP:20260420T103143
CREATED:20250916T203507Z
LAST-MODIFIED:20250916T205536Z
UID:10000163-1759251600-1759255200@10000degrees.org
SUMMARY:Explore 2026 Internship & Summer Opportunities
DESCRIPTION:Come learn about the available internships and summer programs via 10\,000 Degrees Career Success partners and get support in submitting your internship applications.
URL:https://10000degrees.org/event/explore-2026-internship-summer-opportunities/
CATEGORIES:Events for Students & Alumni
ATTACH;FMTTYPE=image/jpeg:https://10000degrees.org/wp-content/uploads/2025/09/3-1.jpg
LOCATION:https://10000degrees.my.site.com/studentportal/s/login/
END:VEVENT
BEGIN:VEVENT
DTSTART;TZID=America/Los_Angeles:20250925T133000
DTEND;TZID=America/Los_Angeles:20250925T170000
DTSTAMP:20260420T103143
CREATED:20250916T203133Z
LAST-MODIFIED:20250916T205942Z
UID:10000162-1758807000-1758819600@10000degrees.org
SUMMARY:Finance Career Day at Dodge & Cox
DESCRIPTION:In-Person\, San Francisco \nAttend the 3rd Annual Finance Career Day at Dodge & Cox in San Francisco. Meet professionals\, explore career paths\, and learn about the Summer Internship. Open to 10\,000 Degrees college students\, with limited spots available! \nLogin to Register
URL:https://10000degrees.org/event/finance-career-day-at-dodge-cox/
LOCATION:Dodge & Cox Building | Downtown San Francisco
CATEGORIES:Events for Students & Alumni
ATTACH;FMTTYPE=image/jpeg:https://10000degrees.org/wp-content/uploads/2025/09/2-1.jpg
END:VEVENT
BEGIN:VEVENT
DTSTART;TZID=America/Los_Angeles:20250923T170000
DTEND;TZID=America/Los_Angeles:20250923T180000
DTSTAMP:20260420T103143
CREATED:20250916T202723Z
LAST-MODIFIED:20250916T202723Z
UID:10000161-1758646800-1758650400@10000degrees.org
SUMMARY:Exploring Healthcare Pathways
DESCRIPTION:Are you curious about a career in healthcare but unsure where to start? This interactive workshop is designed to help college students explore the diverse and dynamic world of healthcare professions. From clinical roles like medicine and nursing to non-clinical careers in public health\, health tech\, and administration\, you’ll gain insights into the many paths available—and how to find the one that fits you best.
URL:https://10000degrees.org/event/exploring-healthcare-pathways/
CATEGORIES:Events for Students & Alumni
ATTACH;FMTTYPE=image/jpeg:https://10000degrees.org/wp-content/uploads/2025/09/1.jpg
LOCATION:10000degrees.org/studentportal
END:VEVENT
BEGIN:VEVENT
DTSTART;TZID=America/Los_Angeles:20250612T120000
DTEND;TZID=America/Los_Angeles:20250612T130000
DTSTAMP:20260420T103143
CREATED:20250108T010535Z
LAST-MODIFIED:20250125T003905Z
UID:10000121-1749729600-1749733200@10000degrees.org
SUMMARY:How to Rock your Summer Internship
DESCRIPTION:If you have secured a summer internship\, congrats! Join us to learn how to make the most out of the experience\, and how to make a great impression on your supervisor and colleagues. You will walk away with tips and tricks for rocking your summer internship\, making meaningful connections with colleagues\, dealing with uncomfortable situations\, and more! \nCareer Success events are open to 10\,000 Degrees college students and alumni. Login to the Student & Alumni Portal to register. All events are virtual unless otherwise noted. All times listed are Pacific Time Zone.
URL:https://10000degrees.org/event/how-to-rock-your-summer-internship-2/
LOCATION:Virtual
CATEGORIES:Events for Students & Alumni
ATTACH;FMTTYPE=image/jpeg:https://10000degrees.org/wp-content/uploads/2025/01/New-website-Events-section-thumbnails-55.jpg
END:VEVENT
BEGIN:VEVENT
DTSTART;TZID=America/Los_Angeles:20250609T180000
DTEND;TZID=America/Los_Angeles:20250609T190000
DTSTAMP:20260420T103143
CREATED:20250505T215503Z
LAST-MODIFIED:20250508T002153Z
UID:10000144-1749492000-1749495600@10000degrees.org
SUMMARY:John B. King\, Jr. In Conversation with Kim Mazzuca
DESCRIPTION:Join us at Book Passage for an author event in celebration of John B. King\, Jr.’s new book Teacher by Teacher! Joined in-conversation with Kim Mazzuca\, President and CEO of 10\,000 Degrees. \nJohn B. King Jr. served in President Barack Obama’s cabinet as the tenth U.S. Secretary of Education. Teacher By Teacher traces his remarkable journey and is a deeply personal love letter to all the teachers in our lives. \nLearn more about the event
URL:https://10000degrees.org/event/john-b-king-jr-in-conversation-with-kim-mazzuca/
LOCATION:Book Passage\, 51 Tamal Vista Blvd.\, Corte Madera\, CA\, 94925\, United States
CATEGORIES:Alumni Events,Educator Workshops & Events,Events for Students & Alumni,Supporter Events
ATTACH;FMTTYPE=image/jpeg:https://10000degrees.org/wp-content/uploads/2025/05/New-website-Events-section-thumbnails-57.jpg
END:VEVENT
BEGIN:VEVENT
DTSTART;TZID=America/Los_Angeles:20250604T170000
DTEND;TZID=America/Los_Angeles:20250604T180000
DTSTAMP:20260420T103143
CREATED:20250108T010442Z
LAST-MODIFIED:20250125T003921Z
UID:10000120-1749056400-1749060000@10000degrees.org
SUMMARY:How to Rock your Summer Internship
DESCRIPTION:If you have secured a summer internship\, congrats! Join us to learn how to make the most out of the experience\, and how to make a great impression on your supervisor and colleagues. You will walk away with tips and tricks for rocking your summer internship\, making meaningful connections with colleagues\, dealing with uncomfortable situations\, and more! \nCareer Success events are open to 10\,000 Degrees college students and alumni. Login to the Student & Alumni Portal to register. All events are virtual unless otherwise noted. All times listed are Pacific Time Zone.
URL:https://10000degrees.org/event/how-to-rock-your-summer-internship/
LOCATION:Virtual
CATEGORIES:Events for Students & Alumni
ATTACH;FMTTYPE=image/jpeg:https://10000degrees.org/wp-content/uploads/2025/01/New-website-Events-section-thumbnails-54.jpg
END:VEVENT
BEGIN:VEVENT
DTSTART;TZID=America/Los_Angeles:20250508T170000
DTEND;TZID=America/Los_Angeles:20250508T180000
DTSTAMP:20260420T103143
CREATED:20250108T010345Z
LAST-MODIFIED:20250108T010345Z
UID:10000119-1746723600-1746727200@10000degrees.org
SUMMARY:Salary & Compensation Negotiation
DESCRIPTION:In many professions\, it’s common and expected that job applicants will negotiate their salary and/or compensation package. How you approach negotiation conversations and what you say is important. In this session\, we’ll review common negotiation practices\, language\, and advice so that you can have a productive professional conversation that sets you up for a successful negotiation conversation. Don’t leave money on the table! Join us to learn about negotiation best practices! \nCareer Success events are open to 10\,000 Degrees college students and alumni. Login to the Student & Alumni Portal to register. All events are virtual unless otherwise noted. All times listed are Pacific Time Zone.
URL:https://10000degrees.org/event/salary-compensation-negotiation-2/
LOCATION:Virtual
CATEGORIES:Events for Students & Alumni
ATTACH;FMTTYPE=image/jpeg:https://10000degrees.org/wp-content/uploads/2025/01/22.jpg
END:VEVENT
END:VCALENDAR